BEGIN:VCALENDAR
VERSION:2.0
PRODID:-//Squarespace Inc/Squarespace 6//v6//EN
BEGIN:VEVENT
UID:614a10e25764da30e68b63d3@squarespace.com
DTSTAMP:20210921T171448Z
DTSTART:20211018T160000Z
DTEND:20211018T170000Z
SUMMARY:APA Ohio Statewide Conference: Confessions Book Tour Event
GEO:39.757525;-104.990684
LOCATION:Online Event
END:VEVENT
END:VCALENDAR
