BEGIN:VCALENDAR
VERSION:2.0
PRODID:-//Squarespace Inc/Squarespace 6//v6//EN
BEGIN:VEVENT
UID:613a52405d3b7c079a4c61d4@squarespace.com
DTSTAMP:20210921T170538Z
DTSTART:20210929T000000Z
DTEND:20210929T013000Z
SUMMARY:Edina\, MN: Neighborhoods First Webinar
GEO:39.757525;-104.990684
LOCATION:Online Event
END:VEVENT
END:VCALENDAR
