BEGIN:VCALENDAR
VERSION:2.0
PRODID:-//Squarespace Inc/Squarespace 6//v6//EN
BEGIN:VEVENT
UID:62a78b63781ab9593fa0a511@squarespace.com
DTSTAMP:20220613T192122Z
DTSTART:20220830T213000Z
DTEND:20220830T223000Z
SUMMARY:Edmond\, OK: Confessions Book Tour
GEO:35.654729;-97.481818
LOCATION:Frenzy Brewing Company\, 15 South Broadway\, Edmond\, OK\, 73034\, 
 United States
END:VEVENT
END:VCALENDAR
