BEGIN:VCALENDAR
VERSION:2.0
PRODID:-//Squarespace Inc/Squarespace 6//v6//EN
BEGIN:VEVENT
UID:61815e113455856abccb639f@squarespace.com
DTSTAMP:20211102T163652Z
DTSTART:20211115T143000Z
DTEND:20211115T153000Z
SUMMARY:Franklin\, MA: Confessions Book Tour Event
GEO:42.082892;-71.39807
LOCATION:Black Box Theater\, 15 West Central Street\, Franklin\, MA\, 02038
 \, United States
END:VEVENT
END:VCALENDAR
