BEGIN:VCALENDAR
VERSION:2.0
PRODID:-//Squarespace Inc/Squarespace 6//v6//EN
BEGIN:VEVENT
UID:5f9c6d9b59db5443eeb7c9af@squarespace.com
DTSTAMP:20201201T201246Z
DTSTART:20201203T230000Z
DTEND:20201204T000000Z
SUMMARY:Community Action Toolkit: A Strong Towns Response to the Pandemic
END:VEVENT
END:VCALENDAR
