BEGIN:VCALENDAR
VERSION:2.0
PRODID:-//Squarespace Inc/Squarespace 6//v6//EN
BEGIN:VEVENT
UID:612662d6f01837141d842479@squarespace.com
DTSTAMP:20210909T181653Z
DTSTART:20210910T110000Z
DTEND:20210910T130000Z
SUMMARY:Hartford\, CT: Confessions Book Tour Event
GEO:41.766646;-72.669765
LOCATION:A Place 2 Be\, 5 Constitution Plaza\, Hartford\, CT 06103
END:VEVENT
END:VCALENDAR
