BEGIN:VCALENDAR
VERSION:2.0
PRODID:-//Squarespace Inc/Squarespace 6//v6//EN
BEGIN:VEVENT
UID:54ec8d01e4b056f5cc4ac922@squarespace.com
DTSTAMP:20150331T001317Z
DTSTART:20150520T000000Z
DTEND:20150520T010000Z
SUMMARY:Hays\, KS
GEO:38.873977;-99.349317
LOCATION:Fort Hays University\, Robbins Center
END:VEVENT
END:VCALENDAR
