BEGIN:VCALENDAR
VERSION:2.0
PRODID:-//Squarespace Inc/Squarespace 6//v6//EN
BEGIN:VEVENT
UID:63ebb575a63b4518cf5368ac@squarespace.com
DTSTAMP:20230214T164649Z
DTSTART:20230412T170000Z
DTEND:20230412T180000Z
SUMMARY:HFES Sustainability Taskforce Webinar: City Design for Safer Transp
 ortation
GEO:46.352673;-94.202008
LOCATION:Online Event
END:VEVENT
END:VCALENDAR
