BEGIN:VCALENDAR
VERSION:2.0
PRODID:-//Squarespace Inc/Squarespace 6//v6//EN
BEGIN:VEVENT
UID:63bec378cf3e0e5c66ef26ca@squarespace.com
DTSTAMP:20230202T211021Z
DTSTART:20230203T151300Z
DTEND:20230203T161300Z
SUMMARY:Hollywood\, FL: Safe Streets Summit 2023
GEO:25.99064;-80.117908
LOCATION:The Diplomat Beach Resort\, 3555 South Ocean Drive\, Hollywood\, F
 L\, 33019\, United States
END:VEVENT
END:VCALENDAR
