BEGIN:VCALENDAR
VERSION:2.0
PRODID:-//Squarespace Inc/Squarespace 6//v6//EN
BEGIN:VEVENT
UID:615f33b606297f72c32d7eee@squarespace.com
DTSTAMP:20211007T182011Z
DTSTART:20211019T130000Z
DTEND:20211019T230000Z
SUMMARY:Housing Solutions Summit: Webcast &amp\; Panel Discussion
GEO:37.643515;-77.509225
LOCATION:Online Event
END:VEVENT
END:VCALENDAR
