BEGIN:VCALENDAR
VERSION:2.0
PRODID:-//Squarespace Inc/Squarespace 6//v6//EN
BEGIN:VEVENT
UID:60f9dfad189bbf749c4121f2@squarespace.com
DTSTAMP:20210722T212616Z
DTSTART:20210924T190000Z
DTEND:20210924T210000Z
SUMMARY:Hurst\, TX: Confessions Book Tour Event
GEO:46.34496;-94.223278
LOCATION:Hurst Conference Center\, 1601 Campus Dr\, Hurst\, TX 76054
END:VEVENT
END:VCALENDAR
