BEGIN:VCALENDAR
VERSION:2.0
PRODID:-//Squarespace Inc/Squarespace 6//v6//EN
BEGIN:VEVENT
UID:60ca15b8d6b8505632871f78@squarespace.com
DTSTAMP:20210903T153754Z
DTSTART:20211026T230000Z
DTEND:20211027T010000Z
SUMMARY:Hutchinson\, KS: Confessions Book Tour Event
GEO:38.053824;-97.930853
LOCATION:Hutchinson Fox Theatre\, 18 E 1st Ave\, Hutchinson\, KS 67501
END:VEVENT
END:VCALENDAR
