BEGIN:VCALENDAR
VERSION:2.0
PRODID:-//Squarespace Inc/Squarespace 6//v6//EN
BEGIN:VEVENT
UID:62fe82f83ba3ec25795354c1@squarespace.com
DTSTAMP:20220901T152819Z
DTSTART:20220919T133000Z
DTEND:20220919T143000Z
SUMMARY:Hybrid Conference: Collingwood\, Ontario\; Ontario Traffic Council
GEO:44.516651;-80.262318
LOCATION:Georgian Bay Hotel & Conference Centre\, 10 Vacation Inn Drive\, C
 ollingwood\, ON\, L9Y 5G4\, Canada
END:VEVENT
END:VCALENDAR
