BEGIN:VCALENDAR
VERSION:2.0
PRODID:-//Squarespace Inc/Squarespace 6//v6//EN
BEGIN:VEVENT
UID:639ce7b16d3e922c9d08d88a@squarespace.com
DTSTAMP:20221222T211634Z
DTSTART:20230109T160000Z
DTEND:20230109T200000Z
SUMMARY:Hybrid Event: Your Land Your Plan Kickoff Workshop
GEO:46.352673;-94.202008
LOCATION:Hybrid Event
END:VEVENT
END:VCALENDAR
