BEGIN:VCALENDAR
VERSION:2.0
PRODID:-//Squarespace Inc/Squarespace 6//v6//EN
BEGIN:VEVENT
UID:625dc8df547d9f79e4c1f7b5@squarespace.com
DTSTAMP:20220418T204102Z
DTSTART:20220518T133000Z
DTEND:20220518T143000Z
SUMMARY:Indianapolis\, IN: Tyler Connect 2022
GEO:39.7645;-86.164366
LOCATION:Indiana Convention Center\, 100 South Capitol Avenue\, Indianapoli
 s\, IN\, 46225\, United States
END:VEVENT
END:VCALENDAR
