BEGIN:VCALENDAR
VERSION:2.0
PRODID:-//Squarespace Inc/Squarespace 6//v6//EN
BEGIN:VEVENT
UID:6334798bf7f7e54051f2b70b@squarespace.com
DTSTAMP:20221003T163052Z
DTSTART:20221019T180000Z
DTEND:20221019T190000Z
SUMMARY:Jacksonville\, FL\; Strong Towns Event
GEO:30.336716;-81.664718
LOCATION:980 North Jefferson Street\, Jacksonville\, FL\, 32209\, United St
 ates
END:VEVENT
END:VCALENDAR
