BEGIN:VCALENDAR
VERSION:2.0
PRODID:-//Squarespace Inc/Squarespace 6//v6//EN
BEGIN:VEVENT
UID:62b21febee31521a920790ab@squarespace.com
DTSTAMP:20220912T143622Z
DTSTART:20221012T233000Z
DTEND:20221013T003000Z
SUMMARY:Jasper\, IN: Strongest Town Winner Event
GEO:38.389286;-86.928075
LOCATION:Thyen-Clark Cultural Center\, 100 Third Avenue\, Jasper\, IN\, 475
 46\, United States
END:VEVENT
END:VCALENDAR
