BEGIN:VCALENDAR
VERSION:2.0
PRODID:-//Squarespace Inc/Squarespace 6//v6//EN
BEGIN:VEVENT
UID:630e41f61f3f24733ffc149f@squarespace.com
DTSTAMP:20220901T152825Z
DTSTART:20220923T003000Z
DTEND:20220923T013000Z
SUMMARY:Kamloops\, British Columbia\; Confessions Book Tour Event
GEO:50.675554;-120.329295
LOCATION:Paramount Theatre\, 503 Victoria Street\, Kamloops\, BC\, V2C 2B1\
 , Canada
END:VEVENT
END:VCALENDAR
