BEGIN:VCALENDAR
VERSION:2.0
PRODID:-//Squarespace Inc/Squarespace 6//v6//EN
BEGIN:VEVENT
UID:614cc2e9b7d7786010e85a85@squarespace.com
DTSTAMP:20210923T182859Z
DTSTART:20211005T230000Z
DTEND:20211006T010000Z
SUMMARY:Kansas City\, MO: Confessions Book Tour Event
GEO:39.090915;-94.562616
LOCATION:Gem Theater\, 1615 East 18th Street\, Kansas City\, MO\, 64108\, U
 nited States
END:VEVENT
END:VCALENDAR
