BEGIN:VCALENDAR
VERSION:2.0
PRODID:-//Squarespace Inc/Squarespace 6//v6//EN
BEGIN:VEVENT
UID:61b2278c3f022d77efdd89d5@squarespace.com
DTSTAMP:20220103T183239Z
DTSTART:20220118T223000Z
DTEND:20220119T000000Z
SUMMARY:Kennett Square\, PA: Confessions Book Tour Event
GEO:39.845563;-75.709764
LOCATION:Kennett Square Presbyterian Church\, 211 South Broad Street\, Kenn
 ett Square\, PA\, 19348\, United States
END:VEVENT
END:VCALENDAR
