BEGIN:VCALENDAR
VERSION:2.0
PRODID:-//Squarespace Inc/Squarespace 6//v6//EN
BEGIN:VEVENT
UID:62e02ef095c43315269803f2@squarespace.com
DTSTAMP:20220901T152813Z
DTSTART:20220914T183000Z
DTEND:20220914T193000Z
SUMMARY:Koloa\, HI: Hawai’i Congress of Planning Officials Conference
GEO:21.875374;-159.437277
LOCATION:Grand Hyatt Kauai Resort & Spa\, 1571 Poipu Road\, Koloa\, HI\, 96
 756\, United States
END:VEVENT
END:VCALENDAR
