BEGIN:VCALENDAR
VERSION:2.0
PRODID:-//Squarespace Inc/Squarespace 6//v6//EN
BEGIN:VEVENT
UID:62a759d4be07151a7533fff0@squarespace.com
DTSTAMP:20220613T154713Z
DTSTART:20220728T220000Z
DTEND:20220728T230000Z
SUMMARY:Lafayette\, LA: CivicCon Acadiana
GEO:30.223803;-92.019131
LOCATION:Acadiana Center for the Arts\, 101 West Vermilion Street\, Lafayet
 te\, LA\, 70501\, United States
END:VEVENT
END:VCALENDAR
