BEGIN:VCALENDAR
VERSION:2.0
PRODID:-//Squarespace Inc/Squarespace 6//v6//EN
BEGIN:VEVENT
UID:642eedcb19dbe47cd2283e60@squarespace.com
DTSTAMP:20230417T153633Z
DTSTART:20230621T220000Z
DTEND:20230621T233000Z
SUMMARY:Leesburg\, FL: Lake County Community Action Lab\; Town Hall Event
GEO:28.80636;-81.874559
LOCATION:The Venetian Center\, 1 Dozier Circle\, Leesburg\, FL\, 34748\, Un
 ited States
END:VEVENT
END:VCALENDAR
