BEGIN:VCALENDAR
VERSION:2.0
PRODID:-//Squarespace Inc/Squarespace 6//v6//EN
BEGIN:VEVENT
UID:6410ac671215ba4a7cc3a38c@squarespace.com
DTSTAMP:20230417T153710Z
DTSTART:20230620T220000Z
DTEND:20230620T233000Z
SUMMARY:Clermont\, FL: Lake County Community Action Lab\; Town Hall Event
GEO:28.555499;-81.765463
LOCATION:Clermont City Center\, 620 West Montrose Street\, Clermont\, FL\, 
 34711\, United States
END:VEVENT
END:VCALENDAR
