BEGIN:VCALENDAR
VERSION:2.0
PRODID:-//Squarespace Inc/Squarespace 6//v6//EN
BEGIN:VEVENT
UID:6411e2cd2a9b947ffd4c4ae0@squarespace.com
DTSTAMP:20230315T184834Z
DTSTART:20231114T230000Z
DTEND:20231115T003000Z
SUMMARY:Lake County\, FL: Strong Towns Event #3
GEO:28.80636;-81.874559
LOCATION:The Venetian Center\, 1 Dozier Circle\, Leesburg\, FL\, 34748\, Un
 ited States
END:VEVENT
END:VCALENDAR
