BEGIN:VCALENDAR
VERSION:2.0
PRODID:-//Squarespace Inc/Squarespace 6//v6//EN
BEGIN:VEVENT
UID:63f5344277079f49429e4e70@squarespace.com
DTSTAMP:20230221T213354Z
DTSTART:20230412T230000Z
DTEND:20230413T020000Z
SUMMARY:Lancaster\, PA: Stronger Lancaster - A Conversation with Chuck Maro
 hn
GEO:40.038692;-76.30835
LOCATION:The Ware Center\, 42 North Prince Street\, Lancaster\, PA\, 17603\
 , United States
END:VEVENT
END:VCALENDAR
