BEGIN:VCALENDAR
VERSION:2.0
PRODID:-//Squarespace Inc/Squarespace 6//v6//EN
BEGIN:VEVENT
UID:639881b3823bdb47222539e1@squarespace.com
DTSTAMP:20221213T192701Z
DTSTART:20230118T230000Z
DTEND:20230119T010000Z
SUMMARY:Leesburg\, FL: Strong Towns Townhall Event #1
GEO:28.80636;-81.874559
LOCATION:Venetian Center\, 1 Dozier Circle\, Leesburg\, FL\, 34748\, United 
 States
END:VEVENT
END:VCALENDAR
