BEGIN:VCALENDAR
VERSION:2.0
PRODID:-//Squarespace Inc/Squarespace 6//v6//EN
BEGIN:VEVENT
UID:62825f262c772d49830af64f@squarespace.com
DTSTAMP:20220606T194027Z
DTSTART:20220609T143000Z
DTEND:20220609T153000Z
SUMMARY:Malibu\, CA: Metro Majority: Local America Forum
GEO:34.039127;-118.705646
LOCATION:Pepperdine University\, 24255 Pacific Coast Highway\, Malibu\, CA\
 , 90263\, United States
END:VEVENT
END:VCALENDAR
