BEGIN:VCALENDAR
VERSION:2.0
PRODID:-//Squarespace Inc/Squarespace 6//v6//EN
BEGIN:VEVENT
UID:5e7597c7e89c823a58a0ea2b@squarespace.com
DTSTAMP:20200326T164457Z
DTSTART:20200326T170000Z
DTEND:20200326T180000Z
SUMMARY:Ask Me Anything: A Weekly Conversation with Charles Marohn
END:VEVENT
END:VCALENDAR
