BEGIN:VCALENDAR
VERSION:2.0
PRODID:-//Squarespace Inc/Squarespace 6//v6//EN
BEGIN:VEVENT
UID:641a404a0a3e1b02eeca167c@squarespace.com
DTSTAMP:20230323T164244Z
DTSTART:20230517T200000Z
DTEND:20230517T220000Z
SUMMARY:Maumee\, OH: Confessions of a Recovering Engineer 
GEO:41.564815;-83.655265
LOCATION:Maumee Indoor Theatere\, 601 Conant Street\, Maumee\, OH\, 43537\, 
 United States
END:VEVENT
END:VCALENDAR
