BEGIN:VCALENDAR
VERSION:2.0
PRODID:-//Squarespace Inc/Squarespace 6//v6//EN
BEGIN:VEVENT
UID:5eb84cd0216a8c218b46ba4b@squarespace.com
DTSTAMP:20200510T190647Z
DTSTART:20200521T170000Z
DTEND:20200521T180000Z
SUMMARY:Ask Me Anything: A Weekly Conversation with Charles Marohn and Stro
 ng Towns Staff
END:VEVENT
END:VCALENDAR
