BEGIN:VCALENDAR
VERSION:2.0
PRODID:-//Squarespace Inc/Squarespace 6//v6//EN
BEGIN:VEVENT
UID:5ea8385131d22122b8f3b2d7@squarespace.com
DTSTAMP:20200510T184951Z
DTSTART:20200507T170000Z
DTEND:20200507T180000Z
SUMMARY:Ask Me Anything: A Weekly Conversation with Charles Marohn (feat. S
 olidarity Hall)
END:VEVENT
END:VCALENDAR
