BEGIN:VCALENDAR
VERSION:2.0
PRODID:-//Squarespace Inc/Squarespace 6//v6//EN
BEGIN:VEVENT
UID:639a002cccc2f4172600ff8e@squarespace.com
DTSTAMP:20230123T141652Z
DTSTART:20230207T233000Z
DTEND:20230208T003000Z
SUMMARY:Medicine Hat\, Alberta: Strong Towns Event #1
GEO:50.03971;-110.680311
LOCATION:Esplanade Arts & Heritage Centre\, 401 1 Street Southeast\, Medici
 ne Hat\, AB\, T1A 8W2\, Canada
END:VEVENT
END:VCALENDAR
