BEGIN:VCALENDAR
VERSION:2.0
PRODID:-//Squarespace Inc/Squarespace 6//v6//EN
BEGIN:VEVENT
UID:63c830866bb63e6ae83334f0@squarespace.com
DTSTAMP:20230419T185510Z
DTSTART:20230614T010000Z
DTEND:20230614T020000Z
SUMMARY:Medicine Hat\, Alberta: Strong Towns Event #2
GEO:50.017832;-110.685472
LOCATION:Eresman Theatre / Medicine Hat College\, 299 College Drive Southea
 st\, Medicine Hat\, AB\, T1A 3Y6\, Canada
END:VEVENT
END:VCALENDAR
