BEGIN:VCALENDAR
VERSION:2.0
PRODID:-//Squarespace Inc/Squarespace 6//v6//EN
BEGIN:VEVENT
UID:63cea63db4dc5b0375b1a79b@squarespace.com
DTSTAMP:20230330T180456Z
DTSTART:20231128T073000Z
DTEND:20231128T083000Z
SUMMARY:Medicine Hat\, Alberta: Strong Towns Event #3
GEO:50.03971;-110.680311
LOCATION:Esplanade Arts & Heritage Centre\, 401 1 Street Southeast\, Medici
 ne Hat\, AB\, T1A 8W2\, Canada
END:VEVENT
END:VCALENDAR
