BEGIN:VCALENDAR
VERSION:2.0
PRODID:-//Squarespace Inc/Squarespace 6//v6//EN
BEGIN:VEVENT
UID:5f57d42f9bbd886b4d715443@squarespace.com
DTSTAMP:20200915T170017Z
DTSTART:20200922T140000Z
DTEND:20200922T150000Z
SUMMARY:Curbside Chat
END:VEVENT
END:VCALENDAR
