BEGIN:VCALENDAR
VERSION:2.0
PRODID:-//Squarespace Inc/Squarespace 6//v6//EN
BEGIN:VEVENT
UID:61f2b1d06de2822831591411@squarespace.com
DTSTAMP:20220131T153300Z
DTSTART:20220202T003000Z
DTEND:20220202T013000Z
SUMMARY:Missoula\, MT: Confessions Book Tour Event
GEO:46.869141;-114.00764
LOCATION:Free Cycles\, 732 South 1st Street West\, Missoula\, MT\, 59801\, 
 United States
END:VEVENT
END:VCALENDAR
