BEGIN:VCALENDAR
VERSION:2.0
PRODID:-//Squarespace Inc/Squarespace 6//v6//EN
BEGIN:VEVENT
UID:6144e1d6f1497f5adad823bd@squarespace.com
DTSTAMP:20210917T185612Z
DTSTART:20211012T230000Z
DTEND:20211013T003000Z
SUMMARY:Moorhead\, MN: Confessions Book Tour Event
GEO:46.873097;-96.771756
LOCATION:Moorhead Public Library\, 118 5th St S\, Moorhead\, MN 56560
END:VEVENT
END:VCALENDAR
