BEGIN:VCALENDAR
VERSION:2.0
PRODID:-//Squarespace Inc/Squarespace 6//v6//EN
BEGIN:VEVENT
UID:63efd3b9584efe53817ab9b8@squarespace.com
DTSTAMP:20230217T193203Z
DTSTART:20230531T003000Z
DTEND:20230531T213000Z
SUMMARY:Strong Towns National Gathering
GEO:48.433451;-89.228903
LOCATION:Italian Cultural Center\, 132 Algoma Street South\, Thunder Bay\, 
 ON\, P7B 3B7\, Canada
END:VEVENT
END:VCALENDAR
