BEGIN:VCALENDAR
VERSION:2.0
PRODID:-//Squarespace Inc/Squarespace 6//v6//EN
BEGIN:VEVENT
UID:629f8e6bec0eeb44bf99d951@squarespace.com
DTSTAMP:20220607T175426Z
DTSTART:20220620T180000Z
DTEND:20220620T200000Z
SUMMARY:New Ulm\, MN: Strong Towns Mini Retreat
GEO:44.316608;-94.459075
LOCATION:German Park\, 200 North German Street\, New Ulm\, MN\, 56073\, Uni
 ted States
END:VEVENT
END:VCALENDAR
