BEGIN:VCALENDAR
VERSION:2.0
PRODID:-//Squarespace Inc/Squarespace 6//v6//EN
BEGIN:VEVENT
UID:60ca0f89af05e35f06d07011@squarespace.com
DTSTAMP:20210825T164246Z
DTSTART:20211013T220000Z
DTEND:20211014T000000Z
SUMMARY:New Ulm\, MN: Strong Towns Presentation
GEO:44.310402;-94.460907
LOCATION:Turner Hall\, 102 S State St\, New Ulm\, MN 56073
END:VEVENT
END:VCALENDAR
