BEGIN:VCALENDAR
VERSION:2.0
PRODID:-//Squarespace Inc/Squarespace 6//v6//EN
BEGIN:VEVENT
UID:63ed0eefb314967df4ebb23b@squarespace.com
DTSTAMP:20230215T173443Z
DTSTART:20230228T003000Z
DTEND:20230228T020000Z
SUMMARY:Norman\, OK: Strong Towns Event #1
GEO:35.222993;-97.446108
LOCATION:Norman City Hall\, 201 West Gray Street\, Norman\, OK\, 73069\, Un
 ited States
END:VEVENT
END:VCALENDAR
