BEGIN:VCALENDAR
VERSION:2.0
PRODID:-//Squarespace Inc/Squarespace 6//v6//EN
BEGIN:VEVENT
UID:63ed1256093b7e007f266968@squarespace.com
DTSTAMP:20230314T171831Z
DTSTART:20230717T063000Z
DTEND:20230717T073000Z
SUMMARY:Norman\, Oklahoma: Strong Towns Event #2
GEO:35.222993;-97.446108
LOCATION:Norman City Hall\, 201 West Gray Street\, Norman\, OK\, 73069\, Un
 ited States
END:VEVENT
END:VCALENDAR
