BEGIN:VCALENDAR
VERSION:2.0
PRODID:-//Squarespace Inc/Squarespace 6//v6//EN
BEGIN:VEVENT
UID:63ed13b85478bd7713dac919@squarespace.com
DTSTAMP:20230315T152253Z
DTSTART:20231107T073000Z
DTEND:20231107T083000Z
SUMMARY:Norman\, Oklahoma: Strong Towns Event #3
GEO:35.222993;-97.446108
LOCATION:Norman City Hall\, 201 West Gray Street\, Norman\, OK\, 73069\, Un
 ited States
END:VEVENT
END:VCALENDAR
