BEGIN:VCALENDAR
VERSION:2.0
PRODID:-//Squarespace Inc/Squarespace 6//v6//EN
BEGIN:VEVENT
UID:63fcd8aa077720542ecc901c@squarespace.com
DTSTAMP:20230414T201537Z
DTSTART:20230425T110000Z
DTEND:20230425T120000Z
SUMMARY:NW Ottawa County\, MI: Tuesday Forum Series
GEO:43.095334;-86.216427
LOCATION:Trillium Event Center\, 17246 Van Wagoner Road\, Spring Lake\, MI\
 , 49456\, United States
END:VEVENT
END:VCALENDAR
