BEGIN:VCALENDAR
VERSION:2.0
PRODID:-//Squarespace Inc/Squarespace 6//v6//EN
BEGIN:VEVENT
UID:621d02fad5e6861b5ef48647@squarespace.com
DTSTAMP:20220228T172646Z
DTSTART:20220323T163000Z
DTEND:20220325T173000Z
SUMMARY:Oklahoma City\, OK: CNU30
GEO:35.46756;-97.516428
LOCATION:Oklahoma City\, OK
END:VEVENT
END:VCALENDAR
