BEGIN:VCALENDAR
VERSION:2.0
PRODID:-//Squarespace Inc/Squarespace 6//v6//EN
BEGIN:VEVENT
UID:642c7e8cafeada6e136539f5@squarespace.com
DTSTAMP:20230404T195714Z
DTSTART:20230522T131500Z
DTEND:20230522T213000Z
SUMMARY:Onamia\, MN: Mille Lacs Tribal Economy Summit
GEO:46.179801;-93.759305
LOCATION:Grand Casino Mille Lacs\, 777 Grand Avenue\, Onamia\, MN\, 56359\, 
 United States
END:VEVENT
END:VCALENDAR
