BEGIN:VCALENDAR
VERSION:2.0
PRODID:-//Squarespace Inc/Squarespace 6//v6//EN
BEGIN:VEVENT
UID:61fc00b62bc05e6326eb45b1@squarespace.com
DTSTAMP:20220203T163250Z
DTSTART:20220223T233000Z
DTEND:20220224T013000Z
SUMMARY:Oviedo\, FL: Make Oviedo Stronger - Townhall Conversation
GEO:28.67183;-81.210877
LOCATION:CrossLife Church\, 45 West Broadway Street\, Oviedo\, FL\, 32765\, 
 United States
END:VEVENT
END:VCALENDAR
