BEGIN:VCALENDAR
VERSION:2.0
PRODID:-//Squarespace Inc/Squarespace 6//v6//EN
BEGIN:VEVENT
UID:62a2354e6a66d5670f5b003e@squarespace.com
DTSTAMP:20220609T185702Z
DTSTART:20220616T000000Z
DTEND:20220616T010000Z
SUMMARY:Petaluma\, CA: Confessions of a Recovering Engineer
GEO:38.235547;-122.642526
LOCATION:Hotel Petaluma\, 205 Kentucky Street\, Petaluma\, CA\, 94952\, Uni
 ted States
END:VEVENT
END:VCALENDAR
