BEGIN:VCALENDAR
VERSION:2.0
PRODID:-//Squarespace Inc/Squarespace 6//v6//EN
BEGIN:VEVENT
UID:61dc81f1fdc5342366026a75@squarespace.com
DTSTAMP:20220110T190916Z
DTSTART:20220210T030000Z
DTEND:20220210T040000Z
SUMMARY:Petaluma Urban Chat: Confessions Book Tour Event
GEO:46.352673;-94.202008
LOCATION:Online Zoom Event
END:VEVENT
END:VCALENDAR
